Workbook

Sheet Лист1
B14: УТВЕРЖДАЮ | C14: ______________________ | D14: Буцалов Г.Г
C15: ='[1]RDT PN16'!C15 -> 01 октября 2026г.
D17: Марка электропривода | E17: TSL-1200-25-1-230-IP67 | F17: TSL-1200-25-1-24-IP67 | G17: TSL-1200-25-2M-230-IP67 | H17: TSL-1200-25-2M-24-IP67 | I17: TSL-1600-25-1R-230-IP67 | J17: TSL-2200-25-1S-230-IP67 | K17: TSL-1600-25-2M-230-IP67 | L17: TSL-1600-25-2M-24-IP67 | M17: TSL-2200-40-1R-230-IP67 | N17: TSL-3000-40-1S-230-IP67 | O17: TSL-3000-40-1RS-230-IP67 | P17: TSL-2200-40-2M-230-IP67 | Q17: TSL-2200-40-2M-24-IP67 | R17: TSL-3000-60-2M-230-IP67 | S17: TSL-3000-60-2M-24-IP67 | T17: TSL-6000-60-1-230-IP67 | U17: TSL-1600-25-2T-230-IP67 | V17: TSL-1600-25-1TR-230-IP67 | W17: TSL-2200-40-2T-230-IP67 | X17: TSL-3000-60-2T-230-IP67 | Y17: TSL-2200-40-1TR-230-IP67 | Z17: TSL-1600-25-2A-230-IP67 | AA17: TSL-2200-25-2AS-230-IP67 | AB17: TSL-1600-25-2АR-230-IP67 | AC17: TSL-1600-25-2A-24-IP67 | AD17: TSL-2200-25-2AS-24-IP67 | AE17: TSL-1600-25-2АR-24-IP67 | AF17: TSL-2200-40-2A-230-IP67 | AG17: TSL-3000-40-2AS-230-IP67 | AH17: TSL-2200-40-2АR-230-IP67 | AI17: TSL-2200-40-2A-24-IP67 | AJ17: TSL-3000-40-2AS-24-IP67 | AK17: TSL-2200-40-2AR-24-IP67 | AL17: TSL-3000-60-2A-230-IP67 | AM17: TSL-3000-60-2A-24-IP67 | AN17: TSL-5000-60-2А-230-IP67 | AO17: TSL-5000-60-2А-24-IP67 | AP17: TSL-10000-60-3A-230-IP65 | AQ17: TSL-16000-100-3A-230-IP65
B18: TRV-3 | D18: Маркировка типа электропривода | E18: 91 | F18: 92 | G18: 94M-Н | H18: 95M-Н | I18: 101R-Н | J18: 101S-Н | K18: 104M-Н | L18: 105M-Н | M18: 110R-Н | N18: 110S-Н | O18: 110RS-Н | P18: 114M-Н | Q18: 115M-Н | R18: 124M-Н | S18: 125M-Н | T18: 130-Н | U18: 401-Н | V18: 201R-Н | W18: 410-Н | X18: 420-Н | Y18: 210R-Н | Z18: 302-Н | AA18: 302S-Н | AB18: 302R-Н | AC18: 303-Н | AD18: 303S-Н | AE18: 303R-Н | AF18: 312-Н | AG18: 312S-Н | AH18: 312R-Н | AI18: 313-Н | AJ18: 313S-Н | AK18: 313R-Н | AL18: 322-Н | AM18: 323-Н | AN18: 332-Н | AO18: 333-Н | AP18: 342-Н | AQ18: 352-Н
B19: Маркировка клапана | C19: Пропускная способность Kvs, м3/ч (Х2) | D19: Розничная цена РФ с НДС, рос. руб | E19: 54000 | F19: 54000 | G19: =VLOOKUP(G17,[1]TSL_приводы!$B17:$D531,3,0) -> 58891 | H19: =VLOOKUP(H17,[1]TSL_приводы!$B17:$D531,3,0) -> 58279 | I19: =VLOOKUP(I17,[1]TSL_приводы!$B17:$D531,3,0) -> 76242 | J19: =VLOOKUP(J17,[1]TSL_приводы!$B17:$D531,3,0) -> 50866 | K19: =VLOOKUP(K17,[1]TSL_приводы!$B17:$D531,3,0) -> 50866 | L19: =VLOOKUP(L17,[1]TSL_приводы!$B17:$D531,3,0) -> 58279 | M19: =VLOOKUP(M17,[1]TSL_приводы!$B17:$D531,3,0) -> 77236 | N19: =VLOOKUP(N17,[1]TSL_приводы!$B17:$D531,3,0) -> 58071 | O19: =[1]TSL_приводы!D24 -> 77236 | P19: =VLOOKUP(P17,[1]TSL_приводы!$B17:$D531,3,0) -> 58071 | Q19: =VLOOKUP(Q17,[1]TSL_приводы!$B17:$D531,3,0) -> 60087 | R19: =VLOOKUP(R17,[1]TSL_приводы!$B17:$D531,3,0) -> 61128 | S19: =VLOOKUP(S17,[1]TSL_приводы!$B17:$D531,3,0) -> 61128 | T19: =VLOOKUP(T17,[1]TSL_приводы!$B17:$D531,3,0) -> 73656 | U19: =VLOOKUP(U17,[1]TSL_приводы!$B17:$D531,3,0) -> 68009 | V19: =VLOOKUP(V17,[1]TSL_приводы!$B17:$D531,3,0) -> 98162 | W19: =VLOOKUP(W17,[1]TSL_приводы!$B17:$D531,3,0) -> 70864 | X19: =[1]TSL_приводы!D35 -> 83064 | Y19: =VLOOKUP(Y17,[1]TSL_приводы!$B17:$D531,3,0) -> 98767 | Z19: =VLOOKUP(Z17,[1]TSL_приводы!$B17:$D531,3,0) -> 61628 | AA19: =VLOOKUP(AA17,[1]TSL_приводы!$B17:$D531,3,0) -> 61628 | AB19: =VLOOKUP(AB17,[1]TSL_приводы!$B17:$D531,3,0) -> 108921 | AC19: =VLOOKUP(AC17,[1]TSL_приводы!$B17:$D531,3,0) -> 61628 | AD19: =VLOOKUP(AD17,[1]TSL_приводы!$B17:$D531,3,0) -> 71359 | AE19: =VLOOKUP(AE17,[1]TSL_приводы!$B17:$D531,3,0) -> 117198 | AF19: =VLOOKUP(AF17,[1]TSL_приводы!$B17:$D531,3,0) -> 71359 | ... AI19: =VLOOKUP(AI17,[1]TSL_приводы!$B17:$D531,3,0) -> 71359 | AJ19: =[1]TSL_приводы!D46 -> 71359 | AK19: =VLOOKUP(AK17,[1]TSL_приводы!$B17:$D531,3,0) -> 117198 | AL19: =VLOOKUP(AL17,[1]TSL_приводы!$B17:$D531,3,0) -> 74603 | AM19: =VLOOKUP(AM17,[1]TSL_приводы!$B17:$D531,3,0) -> 74603 | AN19: =[1]TSL_приводы!D50 -> 81983 | AO19: =[1]TSL_приводы!D51 -> 81983 | AP19: =[1]TSL_приводы!D52 -> 182609 | AQ19: =[1]TSL_приводы!D53 -> 195653
B20: TRV-3-15-X2 | C20: 0,63/1,25/1,6/2,5/4 | D20: 28764 | G20: =$D20+G$19 -> 87655 | H20: =$D20+H$19 -> 87043 | I20: =$D20+I$19 -> 105006 | J20: =$D20+J$19 -> 79630 | K20: =$D20+K$19 -> 79630 | L20: =$D20+L$19 -> 87043 | U20: =$D20+U$19 -> 96773 | V20: =$D20+V$19 -> 126926 | Z20: =$D20+Z$19 -> 90392 | AA20: =$D20+AA$19 -> 90392 | AB20: =$D20+AB$19 -> 137685 | AC20: =$D20+AC$19 -> 90392 | AD20: =$D20+AD$19 -> 100123 | AE20: =$D20+AE$19 -> 145962
B21: TRV-3-20-X2 | C21: 4/5/6,3 | D21: 34804 | G21: =$D21+G$19 -> 93695 | H21: =$D21+H$19 -> 93083 | I21: =$D21+I$19 -> 111046 | J21: =$D21+J$19 -> 85670 | K21: =$D21+K$19 -> 85670 | L21: =$D21+L$19 -> 93083 | U21: =$D21+U$19 -> 102813 | V21: =$D21+V$19 -> 132966 | Z21: =$D21+Z$19 -> 96432 | AA21: =$D21+AA$19 -> 96432 | AB21: =$D21+AB$19 -> 143725 | AC21: =$D21+AC$19 -> 96432 | AD21: =$D21+AD$19 -> 106163 | AE21: =$D21+AE$19 -> 152002
B22: TRV-3-25-X2 | C22: 6,3/8/10 | D22: 35955 | G22: =$D22+G$19 -> 94846 | H22: =$D22+H$19 -> 94234 | I22: =$D22+I$19 -> 112197 | J22: =$D22+J$19 -> 86821 | K22: =$D22+K$19 -> 86821 | L22: =$D22+L$19 -> 94234 | U22: =$D22+U$19 -> 103964 | V22: =$D22+V$19 -> 134117 | Z22: =$D22+Z$19 -> 97583 | AA22: =$D22+AA$19 -> 97583 | AB22: =$D22+AB$19 -> 144876 | AC22: =$D22+AC$19 -> 97583 | AD22: =$D22+AD$19 -> 107314 | AE22: =$D22+AE$19 -> 153153
B23: TRV-3-32-X2 | C23: 10/12,5/16 | D23: 36243 | G23: =$D23+G$19 -> 95134 | H23: =$D23+H$19 -> 94522 | I23: =$D23+I$19 -> 112485 | J23: =$D23+J$19 -> 87109 | K23: =$D23+K$19 -> 87109 | L23: =$D23+L$19 -> 94522 | U23: =$D23+U$19 -> 104252 | V23: =$D23+V$19 -> 134405 | Z23: =$D23+Z$19 -> 97871 | AA23: =$D23+AA$19 -> 97871 | AB23: =$D23+AB$19 -> 145164 | AC23: =$D23+AC$19 -> 97871 | AD23: =$D23+AD$19 -> 107602 | AE23: =$D23+AE$19 -> 153441
B24: TRV-3-40-X2 | C24: 16/20/25 | D24: 59829 | G24: =$D24+G$19 -> 118720 | H24: =$D24+H$19 -> 118108 | I24: =$D24+I$19 -> 136071 | J24: =$D24+J$19 -> 110695 | K24: =$D24+K$19 -> 110695 | L24: =$D24+L$19 -> 118108 | U24: =$D24+U$19 -> 127838 | V24: =$D24+V$19 -> 157991 | Z24: =$D24+Z$19 -> 121457 | AA24: =$D24+AA$19 -> 121457 | AB24: =$D24+AB$19 -> 168750 | AC24: =$D24+AC$19 -> 121457 | AD24: =$D24+AD$19 -> 131188 | AE24: =$D24+AE$19 -> 177027
B25: TRV-3-50-X2 | C25: 25/31,5/40 | D25: 71910 | G25: =$D25+G$19 -> 130801 | H25: =$D25+H$19 -> 130189 | I25: =$D25+I$19 -> 148152 | J25: =$D25+J$19 -> 122776 | K25: =$D25+K$19 -> 122776 | L25: =$D25+L$19 -> 130189 | U25: =$D25+U$19 -> 139919 | V25: =$D25+V$19 -> 170072 | Z25: =$D25+Z$19 -> 133538 | AA25: =$D25+AA$19 -> 133538 | AB25: =$D25+AB$19 -> 180831 | AC25: =$D25+AC$19 -> 133538 | AD25: =$D25+AD$19 -> 143269 | AE25: =$D25+AE$19 -> 189108
B26: TRV-3-65-X2 | C26: 50/63 | D26: 89744 | M26: =$D26+M$19 -> 166980 | N26: =$D26+N$19 -> 147815 | O26: =O19+D26 -> 166980 | P26: =$D26+P$19 -> 147815 | Q26: =$D26+Q$19 -> 149831 | W26: =$D26+W$19 -> 160608 | Y26: =$D26+Y$19 -> 188511 | AF26: =$D26+AF$19 -> 161103 | AG26: =$D26+AG$19 -> 161103 | AH26: =$D26+AH$19 -> 198665 | AI26: =$D26+AI$19 -> 161103 | AJ26: =$D26+AJ$19 -> 161103 | AK26: =$D26+AK$19 -> 206942
B27: TRV-3-80-X2 | C27: 80/100 | D27: 107865 | M27: =$D27+M$19 -> 185101 | N27: =$D27+N$19 -> 165936 | O27: =D27+O19 -> 185101 | P27: =$D27+P$19 -> 165936 | Q27: =$D27+Q$19 -> 167952 | W27: =$D27+W$19 -> 178729 | Y27: =$D27+Y$19 -> 206632 | AF27: =$D27+AF$19 -> 179224 | AG27: =$D27+AG$19 -> 179224 | AH27: =$D27+AH$19 -> 216786 | AI27: =$D27+AI$19 -> 179224 | AJ27: =$D27+AJ$19 -> 179224 | AK27: =$D27+AK$19 -> 225063
B28: TRV-3-100-X2 | C28: 125/160 | D28: 143820 | M28: =$D28+M$19 -> 221056 | N28: =$D28+N$19 -> 201891 | O28: =D28+O19 -> 221056 | P28: =$D28+P$19 -> 201891 | Q28: =$D28+Q$19 -> 203907 | W28: =$D28+W$19 -> 214684 | Y28: =$D28+Y$19 -> 242587 | AF28: =$D28+AF$19 -> 215179 | AG28: =$D28+AG$19 -> 215179 | AH28: =$D28+AH$19 -> 252741 | AI28: =$D28+AI$19 -> 215179 | AJ28: =$D28+AJ$19 -> 215179 | AK28: =$D28+AK$19 -> 261018 | AN28: =D28+$AN$19 -> 225803 | AO28: =D28+$AO$19 -> 225803 | AP28: =D28+AP19 -> 326429
B29: TRV-3-125-X2 | C29: 200/250 | D29: 179775 | O29: =D29+O19 -> 257011 | R29: =$D29+R$19 -> 240903 | S29: =$D29+S$19 -> 240903 | T29: =D29+T19 -> 253431 | X29: =D29+X19 -> 262839 | AL29: =D29+AL19 -> 254378 | AM29: =D29+AM19 -> 254378 | AN29: =D29+$AN$19 -> 261758 | AO29: =D29+$AO$19 -> 261758 | AP29: =D29+AP19 -> 362384 | AQ29: =D29+AQ19 -> 375428
B30: TRV-3-150-X2 | C30: 320/350/400 | D30: 214292 | R30: =$D30+R$19 -> 275420 | S30: =$D30+S$19 -> 275420 | T30: =D30+T19 -> 287948 | X30: =D30+X19 -> 297356 | AL30: =D30+AL19 -> 288895 | AM30: =$D30+AL$19 -> 288895 | AN30: =D30+$AN$19 -> 296275 | AO30: =D30+$AO$19 -> 296275 | AP30: =D30+AP19 -> 396901 | AQ30: =D30+AQ19 -> 409945
B31: TRV-3-200-X2 | C31: 500/560 | D31: 313528 | T31: =D31+T19 -> 387184 | X31: =D31+X19 -> 396592 | AN31: =D31+$AN$19 -> 395511 | AO31: =D31+$AO$19 -> 395511 | AP31: =D31+AP19 -> 496137 | AQ31: =D31+AQ19 -> 509181

Sheet Лист2

Sheet Лист3
